BEGIN:VCALENDAR
VERSION:2.0
PRODID:-//Squarespace Inc/Squarespace 6//v6//EN
BEGIN:VEVENT
UID:5171237ae4b00853b236a4fc@squarespace.com
DTSTAMP:20130401T174625Z
DTSTART:20130415T180000Z
DTEND:20130415T190000Z
SUMMARY:Event One
END:VEVENT
END:VCALENDAR
